BEGIN:VCALENDAR
VERSION:2.0
PRODID:-//Navigating Your Adventure Career - ECPv6.15.20//NONSGML v1.0//EN
CALSCALE:GREGORIAN
METHOD:PUBLISH
X-ORIGINAL-URL:https://adventurecareers.fun
X-WR-CALDESC:Events for Navigating Your Adventure Career
REFRESH-INTERVAL;VALUE=DURATION:PT1H
X-Robots-Tag:noindex
X-PUBLISHED-TTL:PT1H
BEGIN:VTIMEZONE
TZID:America/New_York
BEGIN:DAYLIGHT
TZOFFSETFROM:-0500
TZOFFSETTO:-0400
TZNAME:EDT
DTSTART:20250309T070000
END:DAYLIGHT
BEGIN:STANDARD
TZOFFSETFROM:-0400
TZOFFSETTO:-0500
TZNAME:EST
DTSTART:20251102T060000
END:STANDARD
BEGIN:DAYLIGHT
TZOFFSETFROM:-0500
TZOFFSETTO:-0400
TZNAME:EDT
DTSTART:20260308T070000
END:DAYLIGHT
BEGIN:STANDARD
TZOFFSETFROM:-0400
TZOFFSETTO:-0500
TZNAME:EST
DTSTART:20261101T060000
END:STANDARD
BEGIN:DAYLIGHT
TZOFFSETFROM:-0500
TZOFFSETTO:-0400
TZNAME:EDT
DTSTART:20270314T070000
END:DAYLIGHT
BEGIN:STANDARD
TZOFFSETFROM:-0400
TZOFFSETTO:-0500
TZNAME:EST
DTSTART:20271107T060000
END:STANDARD
END:VTIMEZONE
BEGIN:VEVENT
DTSTART;TZID=America/New_York:20260420T183000
DTEND;TZID=America/New_York:20260420T193000
DTSTAMP:20260424T075230
CREATED:20260224T040338Z
LAST-MODIFIED:20260402T001041Z
UID:2404-1776709800-1776713400@adventurecareers.fun
SUMMARY:Human Resources for Adventure Based Businesses
DESCRIPTION:Looking for tips and tools specific to Human Resources for Adventure-based businesses?  Join us for this online\, one hour session which will cover information such as: \n\nLabor Laws\nJob Postings & Applications\nOnboarding Documentation\nTraining\nMentoring\nScheduling\nFeedback\nPayroll and Tips\n\n  \nCLICK HERE \nTO REGISTER
URL:https://adventurecareers.fun/event/human-resources-for-adventure-based-businesses/
LOCATION:Webinar
ORGANIZER;CN="Adventure Careers":MAILTO:Info@Adventurecareers.fun
END:VEVENT
BEGIN:VEVENT
DTSTART;TZID=America/New_York:20260327T100000
DTEND;TZID=America/New_York:20260329T150000
DTSTAMP:20260424T075230
CREATED:20260304T025431Z
LAST-MODIFIED:20260304T025431Z
UID:2464-1774605600-1774796400@adventurecareers.fun
SUMMARY:Challenge Works - Trainer Summit
DESCRIPTION:Join Challenge Works as they host a gathering for Trainers and aspiring Trainers in the Ropes/ Challenge Course industry. This event is designed for connection\, growth\, and inspiration as trainers. This is a great way to engage with fellow trainers\, strengthen your skills\, and learn new ones while learning from professionals with deep experience in the industry. Beyond fun and skill building\, this is a great time to journey inward and set goals rooted in the heart of why you train. This event takes place over 3 days in the heart of the Santa Cruz Mountains amongst the redwoods. \nApply at Challenge Works today!
URL:https://adventurecareers.fun/event/challenge-works-trainer-summit/
LOCATION:Mission Springs Camp and Conference Center\, 1050 Lockhart Gulch Rd\, Scotts Valley\, CA\, 95066\, United States
ORGANIZER;CN="Challenge Works":MAILTO:training@challengeworks.com
END:VEVENT
BEGIN:VEVENT
DTSTART;TZID=America/New_York:20260323T183000
DTEND;TZID=America/New_York:20260323T193000
DTSTAMP:20260424T075230
CREATED:20260211T022138Z
LAST-MODIFIED:20260224T043118Z
UID:2334-1774290600-1774294200@adventurecareers.fun
SUMMARY:Insurance Basics -Tips for Adventure-based Businesses
DESCRIPTION:Looking for tips and tools specific to Insurance for Adventure-based businesses?  Join us for this online\, one hour session which will cover information such as: \n\nGeneral Liability\nProperty\nAccident Policy\nAuto\nWorkers Comp\nInland Marine\nAnd Others\n\nCLICK HERE\nTO REGISTER\nTo Shop All Sessions in the Series:\nOperations Management of an Adventure Based Business Webinar Series
URL:https://adventurecareers.fun/event/insurance-basics/
LOCATION:Webinar
ORGANIZER;CN="Adventure Careers":MAILTO:Info@Adventurecareers.fun
END:VEVENT
BEGIN:VEVENT
DTSTART;TZID=America/New_York:20260307T080000
DTEND;TZID=America/New_York:20260323T170000
DTSTAMP:20260424T075230
CREATED:20251210T234949Z
LAST-MODIFIED:20251210T234949Z
UID:2234-1772870400-1774285200@adventurecareers.fun
SUMMARY:Guide Exchange- Zip Lost Pines- Austin TX
DESCRIPTION:Guide Exchange – Zip Lost Pines\nAustin\, TexasMarch 7–20\, 2026 \nReady for a unique opportunity to collaborate\, learn\, and grow alongside other professionals?Join us at Zip Lost Pines for up to two weeks of hands-on experience\, immersive learning\, and meaningful connection with peers who share your passion for the aerial adventure industry. \nThis event sparked the creation of Adventure Careers and has already helped numerous professionals discover their next steps.Learn more about the original experience:https://adventurecareers.fun/2024/02/03/how-this-began/ \n\nPresented by:\nZip Lost Pines \nPractitioner Portfolio Requirements:\nParticipants must submit an experience portfolio\, including: \n\n\nPractitioner Experience: (facilitator\, guide\, etc.) \n\n\nChallenge or Aerial Adventure Course Training Attended: \n\n\nDates\, location\, vendor\, and trainer(s) \n\n\nDetails on course content: \n\n\nCore competencies \n\n\nTechnical skills (including site- or product-specific) \n\n\nInterpersonal & program management competencies \n\n\n\n\n\n\nBonus points for using the Adventure Careers App to build all or part of your portfolio! \n\nParticipation Details:\n\n\nMinimum commitment: 4 days \n\n\nTravel: Participant covered \n\n\nLodging: Available for $25/day \n\n\nGuide Pay: $18/hr + tips \n\n\nFor more Information email Info@adventurecareers.com with the Subject “Guide Exchange Zip Lost Pine 2026”
URL:https://adventurecareers.fun/event/guide-exchange-zip-lost-pines-austin-tx/
LOCATION:Zip Lost Pines\, 1760 State Highway 71 W\, Cedar Creek\, TX\, 78612\, United States
END:VEVENT
BEGIN:VEVENT
DTSTART;TZID=America/New_York:20260112T183000
DTEND;TZID=America/New_York:20260112T193000
DTSTAMP:20260424T075230
CREATED:20251211T193955Z
LAST-MODIFIED:20260107T204149Z
UID:2188-1768242600-1768246200@adventurecareers.fun
SUMMARY:Finance & Accounting Tips for Adventure-based Businesses
DESCRIPTION:Looking for tips and tools specific to Finance & Accounting for Adventure-based businesses?  Join us for this online\, one hour session which will cover information such as: \n\nFiscal Year\nBudgeting & Forecasting\nFinancial Management Software\nInventory & Asset Management\nTaxes & Regulated Filings\n\nTo register\, click here:  https://adventurecareers.fun/product/business-planning-and-management-training-series-january-12th-630-pm-est-430-pm-mst-copy/
URL:https://adventurecareers.fun/event/finance-accounting-tips-for-adventure-based-businesses/
LOCATION:Live Webinar
ORGANIZER;CN="Adventure Careers":MAILTO:Info@Adventurecareers.fun
END:VEVENT
END:VCALENDAR